BEGIN:VCALENDAR
VERSION:2.0
PRODID:-//EWV Het Oosten - ECPv6.15.15//NONSGML v1.0//EN
CALSCALE:GREGORIAN
METHOD:PUBLISH
X-ORIGINAL-URL:https://ewv-hetoosten.nl
X-WR-CALDESC:Evenementen voor EWV Het Oosten
REFRESH-INTERVAL;VALUE=DURATION:PT1H
X-Robots-Tag:noindex
X-PUBLISHED-TTL:PT1H
BEGIN:VTIMEZONE
TZID:Europe/Amsterdam
BEGIN:DAYLIGHT
TZOFFSETFROM:+0100
TZOFFSETTO:+0200
TZNAME:CEST
DTSTART:20210328T010000
END:DAYLIGHT
BEGIN:STANDARD
TZOFFSETFROM:+0200
TZOFFSETTO:+0100
TZNAME:CET
DTSTART:20211031T010000
END:STANDARD
BEGIN:DAYLIGHT
TZOFFSETFROM:+0100
TZOFFSETTO:+0200
TZNAME:CEST
DTSTART:20220327T010000
END:DAYLIGHT
BEGIN:STANDARD
TZOFFSETFROM:+0200
TZOFFSETTO:+0100
TZNAME:CET
DTSTART:20221030T010000
END:STANDARD
BEGIN:DAYLIGHT
TZOFFSETFROM:+0100
TZOFFSETTO:+0200
TZNAME:CEST
DTSTART:20230326T010000
END:DAYLIGHT
BEGIN:STANDARD
TZOFFSETFROM:+0200
TZOFFSETTO:+0100
TZNAME:CET
DTSTART:20231029T010000
END:STANDARD
BEGIN:DAYLIGHT
TZOFFSETFROM:+0100
TZOFFSETTO:+0200
TZNAME:CEST
DTSTART:20240331T010000
END:DAYLIGHT
BEGIN:STANDARD
TZOFFSETFROM:+0200
TZOFFSETTO:+0100
TZNAME:CET
DTSTART:20241027T010000
END:STANDARD
BEGIN:DAYLIGHT
TZOFFSETFROM:+0100
TZOFFSETTO:+0200
TZNAME:CEST
DTSTART:20250330T010000
END:DAYLIGHT
BEGIN:STANDARD
TZOFFSETFROM:+0200
TZOFFSETTO:+0100
TZNAME:CET
DTSTART:20251026T010000
END:STANDARD
BEGIN:DAYLIGHT
TZOFFSETFROM:+0100
TZOFFSETTO:+0200
TZNAME:CEST
DTSTART:20260329T010000
END:DAYLIGHT
BEGIN:STANDARD
TZOFFSETFROM:+0200
TZOFFSETTO:+0100
TZNAME:CET
DTSTART:20261025T010000
END:STANDARD
END:VTIMEZONE
BEGIN:VEVENT
DTSTART;TZID=Europe/Amsterdam:20250928T090000
DTEND;TZID=Europe/Amsterdam:20250928T130000
DTSTAMP:20260420T050856
CREATED:20250316T154627Z
LAST-MODIFIED:20250316T154627Z
UID:42941-1759050000-1759064400@ewv-hetoosten.nl
SUMMARY:Herfst clubrit
DESCRIPTION:Afsluiting wielerseizoen en start van het Gravelseizoen. Vertrek 9.00 uur vanaf de Geessinkweg. Na afloop een hapje en drankje in kantine DosWK.
URL:https://ewv-hetoosten.nl/evenement/herfst-clubrit/
LOCATION:Voormalig clubhuis\, Geessinkweg 140\, Enschede\, 7544 RB\, Nederland
CATEGORIES:Clubtocht,EWV Het Oosten,Gravel,Race
END:VEVENT
BEGIN:VEVENT
DTSTART;TZID=Europe/Amsterdam:20250622T083000
DTEND;TZID=Europe/Amsterdam:20250622T140000
DTSTAMP:20260420T050856
CREATED:20250316T154325Z
LAST-MODIFIED:20250316T154325Z
UID:42937-1750581000-1750600800@ewv-hetoosten.nl
SUMMARY:Munsterland Clubrit
DESCRIPTION:Clubrit met racefiets. Vertrek om 8.30 uur vanaf de Geessinkweg
URL:https://ewv-hetoosten.nl/evenement/munsterland-clubrit-2/
LOCATION:Voormalig clubhuis\, Geessinkweg 140\, Enschede\, 7544 RB\, Nederland
CATEGORIES:Clubtocht,Race
END:VEVENT
BEGIN:VEVENT
DTSTART;TZID=Europe/Amsterdam:20250619T190000
DTEND;TZID=Europe/Amsterdam:20250619T210000
DTSTAMP:20260420T050856
CREATED:20250530T193041Z
LAST-MODIFIED:20250530T193041Z
UID:48252-1750359600-1750366800@ewv-hetoosten.nl
SUMMARY:wielerclinic
DESCRIPTION:Wielerclinic onder leiding van ervaren en opgeleide wegkapiteins voor iedereen die kennis wil maken met onze gezellige vereniging.
URL:https://ewv-hetoosten.nl/evenement/wielerclinic-4/
LOCATION:Voormalig clubhuis\, Geessinkweg 140\, Enschede\, 7544 RB\, Nederland
CATEGORIES:EWV Het Oosten,Race
ATTACH;FMTTYPE=image/jpeg:https://ewv-hetoosten.nl/wp-content/uploads/2024/04/herman-groepje-scaled.jpg
END:VEVENT
BEGIN:VEVENT
DTSTART;TZID=Europe/Amsterdam:20250612T190000
DTEND;TZID=Europe/Amsterdam:20250612T210000
DTSTAMP:20260420T050856
CREATED:20250530T192819Z
LAST-MODIFIED:20250530T192819Z
UID:48249-1749754800-1749762000@ewv-hetoosten.nl
SUMMARY:Wielerclinic
DESCRIPTION:Van 19.00 -21.00 uur een wielerclinic voor beginnende fietsers of racers die nog niet gewend zijn om in een groep te fietsen en eigenlijk voor iedereen die kennis wil maken met onze gezellige vereniging.
URL:https://ewv-hetoosten.nl/evenement/wielerclinic-3/
LOCATION:Voormalig clubhuis\, Geessinkweg 140\, Enschede\, 7544 RB\, Nederland
CATEGORIES:EWV Het Oosten,Race
ATTACH;FMTTYPE=image/jpeg:https://ewv-hetoosten.nl/wp-content/uploads/2024/09/AVE_9634-scaled.jpg
END:VEVENT
BEGIN:VEVENT
DTSTART;VALUE=DATE:20250522
DTEND;VALUE=DATE:20250527
DTSTAMP:20260420T050856
CREATED:20241115T144347Z
LAST-MODIFIED:20250316T153852Z
UID:34976-1747872000-1748303999@ewv-hetoosten.nl
SUMMARY:Clubweekend Sauerland
DESCRIPTION:Clubweekend naar Brilon Sauerland \nDonderdag 22 mei t/m maandag 26 mei 2025. \nMeer informatie volgt nog.
URL:https://ewv-hetoosten.nl/evenement/clubweekend-sauerland/
LOCATION:Voormalig clubhuis\, Geessinkweg 140\, Enschede\, 7544 RB\, Nederland
CATEGORIES:MTB,Race
END:VEVENT
BEGIN:VEVENT
DTSTART;TZID=Europe/Amsterdam:20250505T080000
DTEND;TZID=Europe/Amsterdam:20250505T170000
DTSTAMP:20260420T050856
CREATED:20241115T144212Z
LAST-MODIFIED:20241115T144221Z
UID:34974-1746432000-1746464400@ewv-hetoosten.nl
SUMMARY:Bevrijdingsvuur
DESCRIPTION:Meer informatie volgt nog.
URL:https://ewv-hetoosten.nl/evenement/bevrijdingsvuur-3/
LOCATION:Voormalig clubhuis\, Geessinkweg 140\, Enschede\, 7544 RB\, Nederland
END:VEVENT
BEGIN:VEVENT
DTSTART;TZID=Europe/Amsterdam:20250330T090000
DTEND;TZID=Europe/Amsterdam:20250330T130000
DTSTAMP:20260420T050856
CREATED:20241115T144143Z
LAST-MODIFIED:20250318T214213Z
UID:34972-1743325200-1743339600@ewv-hetoosten.nl
SUMMARY:Lenteclubrit
DESCRIPTION:Start van het wielerseizoen. We vertrekken om 9.00 uur vanuit de Geessinkweg. Om 11.30 uur sluiten we gezamenlijk af met een hapje en drankje bij DosWK. Iedere groep fiets een eigen route en afstand.
URL:https://ewv-hetoosten.nl/evenement/lenteclubrit/
LOCATION:Voormalig clubhuis\, Geessinkweg 140\, Enschede\, 7544 RB\, Nederland
CATEGORIES:Clubtocht,MTB,Race
END:VEVENT
BEGIN:VEVENT
DTSTART;TZID=Europe/Amsterdam:20250124T170000
DTEND;TZID=Europe/Amsterdam:20250124T170000
DTSTAMP:20260420T050856
CREATED:20241115T143843Z
LAST-MODIFIED:20241115T143843Z
UID:34968-1737738000-1737738000@ewv-hetoosten.nl
SUMMARY:Nightride
DESCRIPTION:Meer informatie volgt nog.
URL:https://ewv-hetoosten.nl/evenement/nightride/
LOCATION:Voormalig clubhuis\, Geessinkweg 140\, Enschede\, 7544 RB\, Nederland
END:VEVENT
BEGIN:VEVENT
DTSTART;TZID=Europe/Amsterdam:20241228T100000
DTEND;TZID=Europe/Amsterdam:20241228T130000
DTSTAMP:20260420T050856
CREATED:20240907T180438Z
LAST-MODIFIED:20241115T143512Z
UID:29557-1735380000-1735390800@ewv-hetoosten.nl
SUMMARY:Oliebollentocht
DESCRIPTION:Vertrek om 10.00 uur bij kantine DosWK. Om 13.00 terug om een heerlijke oliebol en een drankje te doen. \nVanaf 13.00 uur staan de zelfgebakken oliebollen klaar. Fiets je niet mee? Kom dan gezellig even een oliebol eten!
URL:https://ewv-hetoosten.nl/evenement/oliebollentocht-2/
LOCATION:Voormalig clubhuis\, Geessinkweg 140\, Enschede\, 7544 RB\, Nederland
CATEGORIES:EWV Het Oosten,Gravel,MTB
END:VEVENT
BEGIN:VEVENT
DTSTART;TZID=Europe/Amsterdam:20241019T093000
DTEND;TZID=Europe/Amsterdam:20241019T120000
DTSTAMP:20260420T050856
CREATED:20240920T175713Z
LAST-MODIFIED:20240920T175713Z
UID:30965-1729330200-1729339200@ewv-hetoosten.nl
SUMMARY:Ladies only MTB Clinic
DESCRIPTION:Laagdrempelige MTB Clinic voor vrouwen die weinig of geen MTB ervaring hebben. Maar ook voor vrouwen die dat wel hebben maar gewoon een keer een clinic willen volgen. Ervaren instructeurs geven tips voor verbeteren fietstechniek.
URL:https://ewv-hetoosten.nl/evenement/ladies-only-mtb-clinic/
LOCATION:Voormalig clubhuis\, Geessinkweg 140\, Enschede\, 7544 RB\, Nederland
CATEGORIES:EWV Het Oosten,MTB
END:VEVENT
BEGIN:VEVENT
DTSTART;TZID=Europe/Amsterdam:20240929T083000
DTEND;TZID=Europe/Amsterdam:20240929T130000
DTSTAMP:20260420T050856
CREATED:20240310T195117Z
LAST-MODIFIED:20240907T180132Z
UID:24816-1727598600-1727614800@ewv-hetoosten.nl
SUMMARY:Herfstclubrit
DESCRIPTION:Herfst-clubrit voor alle groepen race en MTB. Vertrek vanaf parkeerplaats Geessinkweg \n 
URL:https://ewv-hetoosten.nl/evenement/herfstclubrit/
LOCATION:Voormalig clubhuis\, Geessinkweg 140\, Enschede\, 7544 RB\, Nederland
CATEGORIES:Clubtocht,EWV Het Oosten
END:VEVENT
BEGIN:VEVENT
DTSTART;TZID=Europe/Amsterdam:20240922T090000
DTEND;TZID=Europe/Amsterdam:20240922T150000
DTSTAMP:20260420T050856
CREATED:20240920T175840Z
LAST-MODIFIED:20240920T175947Z
UID:30967-1726995600-1727017200@ewv-hetoosten.nl
SUMMARY:FPS Bouw MTB cup
DESCRIPTION:
URL:https://ewv-hetoosten.nl/evenement/fps-mountainbike-cup/
LOCATION:Voormalig clubhuis\, Geessinkweg 140\, Enschede\, 7544 RB\, Nederland
CATEGORIES:EWV Het Oosten,MTB
END:VEVENT
BEGIN:VEVENT
DTSTART;TZID=Europe/Amsterdam:20240609T083000
DTEND;TZID=Europe/Amsterdam:20240609T130000
DTSTAMP:20260420T050856
CREATED:20231020T211049Z
LAST-MODIFIED:20240509T093533Z
UID:21885-1717921800-1717938000@ewv-hetoosten.nl
SUMMARY:Munsterland clubrit
DESCRIPTION:Vertrek vanaf het clubhuis met de verschillende groepen.\nIedere groep fiets eigen afstand. Op 40 km voor het einde is er koffie en taart in Asbeck bij Hotel-Restaurant Enseling
URL:https://ewv-hetoosten.nl/evenement/munsterland-clubrit/
LOCATION:Voormalig clubhuis\, Geessinkweg 140\, Enschede\, 7544 RB\, Nederland
CATEGORIES:EWV Het Oosten,Race
END:VEVENT
BEGIN:VEVENT
DTSTART;TZID=Europe/Amsterdam:20240504T093000
DTEND;TZID=Europe/Amsterdam:20240504T120000
DTSTAMP:20260420T050856
CREATED:20240407T180751Z
LAST-MODIFIED:20240407T180751Z
UID:25659-1714815000-1714824000@ewv-hetoosten.nl
SUMMARY:WIELERCLINIC
DESCRIPTION:Zaterdag 4 mei is er een wielerclinic iedereen die graag een training wil volgen van ervaren wielrenners. Deelname is gratis.
URL:https://ewv-hetoosten.nl/evenement/wielerclinic-2/
LOCATION:Voormalig clubhuis\, Geessinkweg 140\, Enschede\, 7544 RB\, Nederland
CATEGORIES:EWV Het Oosten,Trainingen
END:VEVENT
BEGIN:VEVENT
DTSTART;TZID=Europe/Amsterdam:20240420T093000
DTEND;TZID=Europe/Amsterdam:20240420T120000
DTSTAMP:20260420T050856
CREATED:20240407T180555Z
LAST-MODIFIED:20240407T180610Z
UID:25657-1713605400-1713614400@ewv-hetoosten.nl
SUMMARY:WIELERCLINIC
DESCRIPTION:Wielerclinic voor iedereen die graag een training van ervaren wielrenners wil volgen. Deelname is gratis.
URL:https://ewv-hetoosten.nl/evenement/wielerclinic/
LOCATION:Voormalig clubhuis\, Geessinkweg 140\, Enschede\, 7544 RB\, Nederland
CATEGORIES:EWV Het Oosten,Trainingen
END:VEVENT
BEGIN:VEVENT
DTSTART;TZID=Europe/Amsterdam:20240330T093000
DTEND;TZID=Europe/Amsterdam:20240330T123000
DTSTAMP:20260420T050856
CREATED:20240310T155314Z
LAST-MODIFIED:20240310T155314Z
UID:24789-1711791000-1711801800@ewv-hetoosten.nl
SUMMARY:Kleding passen
DESCRIPTION:Op zaterdag 30 maart is er de mogelijkheid om de nieuwe kleding te passen tussen 9.30 – 12.30 uur in kantine van DosWK
URL:https://ewv-hetoosten.nl/evenement/kleding-passen/
LOCATION:Voormalig clubhuis\, Geessinkweg 140\, Enschede\, 7544 RB\, Nederland
CATEGORIES:EWV Het Oosten
END:VEVENT
BEGIN:VEVENT
DTSTART;TZID=Europe/Amsterdam:20240320T200000
DTEND;TZID=Europe/Amsterdam:20240320T213000
DTSTAMP:20260420T050856
CREATED:20240118T181431Z
LAST-MODIFIED:20240310T155058Z
UID:23851-1710964800-1710970200@ewv-hetoosten.nl
SUMMARY:Bespreking wegkapiteins
DESCRIPTION:20.00 uur in kantine van DosWK
URL:https://ewv-hetoosten.nl/evenement/bespreking-wegkapiteins/
LOCATION:Voormalig clubhuis\, Geessinkweg 140\, Enschede\, 7544 RB\, Nederland
CATEGORIES:Race,Trainingen
END:VEVENT
BEGIN:VEVENT
DTSTART;TZID=Europe/Amsterdam:20240302T090000
DTEND;TZID=Europe/Amsterdam:20240302T160000
DTSTAMP:20260420T050856
CREATED:20240118T181239Z
LAST-MODIFIED:20240118T181239Z
UID:23848-1709370000-1709395200@ewv-hetoosten.nl
SUMMARY:Cursus wegkapitein
DESCRIPTION:
URL:https://ewv-hetoosten.nl/evenement/cursus-wegkapitein-2/
LOCATION:Voormalig clubhuis\, Geessinkweg 140\, Enschede\, 7544 RB\, Nederland
CATEGORIES:Race
END:VEVENT
BEGIN:VEVENT
DTSTART;TZID=Europe/Amsterdam:20231223T123000
DTEND;TZID=Europe/Amsterdam:20231223T153000
DTSTAMP:20260420T050856
CREATED:20230911T172038Z
LAST-MODIFIED:20231023T193754Z
UID:21051-1703334600-1703345400@ewv-hetoosten.nl
SUMMARY:Oliebollentocht
DESCRIPTION:Op 23 december Oliebollentocht.\nStart 12.30 uur bij DOS WK. 15.30 uur afsluiting bij DOS WK met oliebollen.\nMTB 35-40 kilometer en Gravel 55-60 kilometer
URL:https://ewv-hetoosten.nl/evenement/oliebollentocht/
LOCATION:Voormalig clubhuis\, Geessinkweg 140\, Enschede\, 7544 RB\, Nederland
CATEGORIES:Clubtocht,EWV Het Oosten,Gravel,MTB
END:VEVENT
BEGIN:VEVENT
DTSTART;TZID=Europe/Amsterdam:20231124T193000
DTEND;TZID=Europe/Amsterdam:20231124T213000
DTSTAMP:20260420T050856
CREATED:20231020T211334Z
LAST-MODIFIED:20231115T114717Z
UID:21887-1700854200-1700861400@ewv-hetoosten.nl
SUMMARY:Nightride MTB en Gravelrit
DESCRIPTION:Spannende nightride met de MTB of gravelbike; \nvertrek  19.30 uur Geessinkweg. \nS.v.p. vooraf even aanmelden via: https://forms.gle/gyxbte49MpHiBLVA6
URL:https://ewv-hetoosten.nl/evenement/nightride-mtb-en-gravelrit/
LOCATION:Voormalig clubhuis\, Geessinkweg 140\, Enschede\, 7544 RB\, Nederland
CATEGORIES:Clubtocht,EWV Het Oosten
END:VEVENT
BEGIN:VEVENT
DTSTART;TZID=Europe/Amsterdam:20231014T090000
DTEND;TZID=Europe/Amsterdam:20231014T120000
DTSTAMP:20260420T050856
CREATED:20230730T180532Z
LAST-MODIFIED:20230730T180532Z
UID:20490-1697274000-1697284800@ewv-hetoosten.nl
SUMMARY:MTB Clinic ladies only
DESCRIPTION:
URL:https://ewv-hetoosten.nl/evenement/mtb-clinic-ladies-only-3/
LOCATION:Voormalig clubhuis\, Geessinkweg 140\, Enschede\, 7544 RB\, Nederland
CATEGORIES:MTB
END:VEVENT
BEGIN:VEVENT
DTSTART;TZID=Europe/Amsterdam:20231007T090000
DTEND;TZID=Europe/Amsterdam:20231007T120000
DTSTAMP:20260420T050856
CREATED:20230730T180447Z
LAST-MODIFIED:20230730T180838Z
UID:20488-1696669200-1696680000@ewv-hetoosten.nl
SUMMARY:MTB Clinic ladies only
DESCRIPTION:
URL:https://ewv-hetoosten.nl/evenement/mtb-clinic-ladies-only-2/
LOCATION:Voormalig clubhuis\, Geessinkweg 140\, Enschede\, 7544 RB\, Nederland
CATEGORIES:MTB
END:VEVENT
BEGIN:VEVENT
DTSTART;TZID=Europe/Amsterdam:20230930T090000
DTEND;TZID=Europe/Amsterdam:20230930T120000
DTSTAMP:20260420T050856
CREATED:20230730T180307Z
LAST-MODIFIED:20230730T180307Z
UID:20486-1696064400-1696075200@ewv-hetoosten.nl
SUMMARY:MTB Clinic ladies only
DESCRIPTION:
URL:https://ewv-hetoosten.nl/evenement/mtb-clinic-ladies-only/
LOCATION:Voormalig clubhuis\, Geessinkweg 140\, Enschede\, 7544 RB\, Nederland
CATEGORIES:MTB
END:VEVENT
BEGIN:VEVENT
DTSTART;TZID=Europe/Amsterdam:20230923T090000
DTEND;TZID=Europe/Amsterdam:20230923T160000
DTSTAMP:20260420T050856
CREATED:20230730T180037Z
LAST-MODIFIED:20230730T180037Z
UID:20481-1695459600-1695484800@ewv-hetoosten.nl
SUMMARY:Cursus wegkapitein
DESCRIPTION:Cursus Wegkapitein
URL:https://ewv-hetoosten.nl/evenement/cursus-wegkapitein/
LOCATION:Voormalig clubhuis\, Geessinkweg 140\, Enschede\, 7544 RB\, Nederland
CATEGORIES:Race
END:VEVENT
BEGIN:VEVENT
DTSTART;TZID=Europe/Amsterdam:20230910T090000
DTEND;TZID=Europe/Amsterdam:20230910T160000
DTSTAMP:20260420T050856
CREATED:20230730T175935Z
LAST-MODIFIED:20230730T175935Z
UID:20479-1694336400-1694361600@ewv-hetoosten.nl
SUMMARY:FPS BOUW MTB cup 10 september
DESCRIPTION:
URL:https://ewv-hetoosten.nl/evenement/fps-bouw-mtb-cup-10-september/
LOCATION:Voormalig clubhuis\, Geessinkweg 140\, Enschede\, 7544 RB\, Nederland
CATEGORIES:MTB
END:VEVENT
BEGIN:VEVENT
DTSTART;TZID=Europe/Amsterdam:20230707T080000
DTEND;TZID=Europe/Amsterdam:20230709T170000
DTSTAMP:20260420T050856
CREATED:20230321T205525Z
LAST-MODIFIED:20230321T205525Z
UID:18116-1688716800-1688922000@ewv-hetoosten.nl
SUMMARY:EWV jeugdkamp
DESCRIPTION:EWV jeugdkamp 2023. \nVrijdagavond 07 juli t/m zondag 09 juli \n  \nInformatie volgt in de loop van het voorjaar.
URL:https://ewv-hetoosten.nl/evenement/ewv-jeugdkamp/
LOCATION:Voormalig clubhuis\, Geessinkweg 140\, Enschede\, 7544 RB\, Nederland
END:VEVENT
BEGIN:VEVENT
DTSTART;TZID=Europe/Amsterdam:20230611T083000
DTEND;TZID=Europe/Amsterdam:20230611T150000
DTSTAMP:20260420T050856
CREATED:20230511T170110Z
LAST-MODIFIED:20230511T170145Z
UID:18911-1686472200-1686495600@ewv-hetoosten.nl
SUMMARY:Münsterland clubtocht via GPS
DESCRIPTION:Gezamenlijke GPS clubtocht met afstanden van 85 en 120 km. We vertrekken vanaf het clubhuis.
URL:https://ewv-hetoosten.nl/evenement/munsterland-clubtocht-via-gps/
LOCATION:Voormalig clubhuis\, Geessinkweg 140\, Enschede\, 7544 RB\, Nederland
CATEGORIES:Clubtocht
END:VEVENT
BEGIN:VEVENT
DTSTART;TZID=Europe/Amsterdam:20230511T080000
DTEND;TZID=Europe/Amsterdam:20230511T170000
DTSTAMP:20260420T050856
CREATED:20230511T170344Z
LAST-MODIFIED:20230511T170344Z
UID:18914-1683792000-1683824400@ewv-hetoosten.nl
SUMMARY:Afsluiting wegseizoen clubtocht
DESCRIPTION:Clubtocht met racer om het wegseizoen af te sluiten. Vertrek om 8.30 uur. Daarna vanaf 11.30 uur borrel en bitterballen.
URL:https://ewv-hetoosten.nl/evenement/afsluiting-wegseizoen-clubtocht/
LOCATION:Voormalig clubhuis\, Geessinkweg 140\, Enschede\, 7544 RB\, Nederland
CATEGORIES:Clubtocht
END:VEVENT
BEGIN:VEVENT
DTSTART;TZID=Europe/Amsterdam:20230415T093000
DTEND;TZID=Europe/Amsterdam:20230415T120000
DTSTAMP:20260420T050856
CREATED:20230402T123544Z
LAST-MODIFIED:20230402T123841Z
UID:18506-1681551000-1681560000@ewv-hetoosten.nl
SUMMARY:Ladies only wielerclinic
DESCRIPTION:Op zaterdag 15 en 22 april organiseren we een wielerclinici voor (beginnende) vrouwen die fietsen. Wees welkom om 9.30 uur. De clinic duurt tot 12.oo uur
URL:https://ewv-hetoosten.nl/evenement/ladies-only-wielerclinic/2023-04-15/
LOCATION:Voormalig clubhuis\, Geessinkweg 140\, Enschede\, 7544 RB\, Nederland
CATEGORIES:EWV Het Oosten,Race
ATTACH;FMTTYPE=image/jpeg:https://ewv-hetoosten.nl/wp-content/uploads/2023/04/LadiesOnly_EWV2023-scaled.jpg
END:VEVENT
BEGIN:VEVENT
DTSTART;TZID=Europe/Amsterdam:20221104T190000
DTEND;TZID=Europe/Amsterdam:20221104T233000
DTSTAMP:20260420T050856
CREATED:20220926T173830Z
LAST-MODIFIED:20220926T173830Z
UID:13165-1667588400-1667604600@ewv-hetoosten.nl
SUMMARY:Gezellige clubavond 4 november
DESCRIPTION:Op vrijdag 4 november a.s. organiseert de activiteitencommissie een gezellige clubavond voor de leden.\nHoudt deze datum vrij in je agenda. Nadere informatie volgt.
URL:https://ewv-hetoosten.nl/evenement/gezellige-clubavond-4-november/
LOCATION:Voormalig clubhuis\, Geessinkweg 140\, Enschede\, 7544 RB\, Nederland
END:VEVENT
END:VCALENDAR