BEGIN:VCALENDAR
VERSION:2.0
PRODID:-//EWV Het Oosten - ECPv6.15.15//NONSGML v1.0//EN
CALSCALE:GREGORIAN
METHOD:PUBLISH
X-ORIGINAL-URL:https://ewv-hetoosten.nl
X-WR-CALDESC:Evenementen voor EWV Het Oosten
REFRESH-INTERVAL;VALUE=DURATION:PT1H
X-Robots-Tag:noindex
X-PUBLISHED-TTL:PT1H
BEGIN:VTIMEZONE
TZID:Europe/Amsterdam
BEGIN:DAYLIGHT
TZOFFSETFROM:+0100
TZOFFSETTO:+0200
TZNAME:CEST
DTSTART:20210328T010000
END:DAYLIGHT
BEGIN:STANDARD
TZOFFSETFROM:+0200
TZOFFSETTO:+0100
TZNAME:CET
DTSTART:20211031T010000
END:STANDARD
BEGIN:DAYLIGHT
TZOFFSETFROM:+0100
TZOFFSETTO:+0200
TZNAME:CEST
DTSTART:20220327T010000
END:DAYLIGHT
BEGIN:STANDARD
TZOFFSETFROM:+0200
TZOFFSETTO:+0100
TZNAME:CET
DTSTART:20221030T010000
END:STANDARD
BEGIN:DAYLIGHT
TZOFFSETFROM:+0100
TZOFFSETTO:+0200
TZNAME:CEST
DTSTART:20230326T010000
END:DAYLIGHT
BEGIN:STANDARD
TZOFFSETFROM:+0200
TZOFFSETTO:+0100
TZNAME:CET
DTSTART:20231029T010000
END:STANDARD
END:VTIMEZONE
BEGIN:VEVENT
DTSTART;TZID=Europe/Amsterdam:20220424T083000
DTEND;TZID=Europe/Amsterdam:20220424T123000
DTSTAMP:20260420T050658
CREATED:20220415T155646Z
LAST-MODIFIED:20220415T173029Z
UID:10049-1650789000-1650803400@ewv-hetoosten.nl
SUMMARY:EWV1 zondagrit
DESCRIPTION:
URL:https://ewv-hetoosten.nl/evenement/wielrennen-ewv-het-oosten-zondegrit/2022-04-24/
LOCATION:Voormalig clubhuis\, Geessinkweg 140\, Enschede\, 7544 RB\, Nederland
CATEGORIES:Race
END:VEVENT
END:VCALENDAR